Package: QuasR Version: 1.47.2 Command: /home/biocbuild/bbs-3.21-bioc/R/bin/R CMD build --keep-empty-dirs --no-resave-data QuasR StartedAt: 2025-02-09 18:47:17 -0500 (Sun, 09 Feb 2025) EndedAt: 2025-02-09 18:51:41 -0500 (Sun, 09 Feb 2025) EllapsedTime: 264.3 seconds RetCode: 0 Status: OK PackageFile: QuasR_1.47.2.tar.gz PackageFileSize: 2.434 MiB