Package: QuasR Version: 1.47.2 Command: /home/biocbuild/bbs-3.21-bioc/R/bin/R CMD INSTALL QuasR StartedAt: 2025-02-09 15:56:57 -0500 (Sun, 09 Feb 2025) EndedAt: 2025-02-09 15:58:04 -0500 (Sun, 09 Feb 2025) EllapsedTime: 66.7 seconds RetCode: 0 Status: OK