Package: QuasR Version: 1.47.2 Command: rm -rf QuasR.buildbin-libdir && mkdir QuasR.buildbin-libdir && E:\biocbuild\bbs-3.21-bioc\R\bin\R.exe CMD INSTALL --build --library=QuasR.buildbin-libdir QuasR_1.47.2.tar.gz StartedAt: 2025-02-10 08:27:32 -0500 (Mon, 10 Feb 2025) EndedAt: 2025-02-10 08:29:21 -0500 (Mon, 10 Feb 2025) EllapsedTime: 108.3 seconds RetCode: 0 Status: OK PackageFile: QuasR_1.47.2.zip PackageFileSize: 7.203 MiB