Package: QuaternaryProd Version: 1.41.0 Command: /Library/Frameworks/R.framework/Resources/bin/R CMD build --keep-empty-dirs --no-resave-data QuaternaryProd StartedAt: 2025-02-09 17:19:29 -0500 (Sun, 09 Feb 2025) EndedAt: 2025-02-09 17:22:13 -0500 (Sun, 09 Feb 2025) EllapsedTime: 163.9 seconds RetCode: 0 Status: OK PackageFile: QuaternaryProd_1.41.0.tar.gz PackageFileSize: 10.75 MiB