Package: QuaternaryProd Version: 1.41.0 Command: /Library/Frameworks/R.framework/Resources/bin/R CMD build --keep-empty-dirs --no-resave-data QuaternaryProd StartedAt: 2025-02-12 17:56:49 -0500 (Wed, 12 Feb 2025) EndedAt: 2025-02-12 18:02:59 -0500 (Wed, 12 Feb 2025) EllapsedTime: 370.1 seconds RetCode: 0 Status: OK PackageFile: QuaternaryProd_1.41.0.tar.gz PackageFileSize: 10.75 MiB