Package: QuaternaryProd Version: 1.41.0 Command: /Library/Frameworks/R.framework/Resources/bin/R CMD INSTALL QuaternaryProd StartedAt: 2025-02-12 15:06:32 -0500 (Wed, 12 Feb 2025) EndedAt: 2025-02-12 15:06:55 -0500 (Wed, 12 Feb 2025) EllapsedTime: 23.3 seconds RetCode: 0 Status: OK