Package: QuaternaryProd Version: 1.41.0 Command: /home/biocbuild/bbs-3.21-bioc/R/bin/R CMD build --keep-empty-dirs --no-resave-data QuaternaryProd StartedAt: 2025-02-12 18:43:17 -0500 (Wed, 12 Feb 2025) EndedAt: 2025-02-12 18:48:58 -0500 (Wed, 12 Feb 2025) EllapsedTime: 341.5 seconds RetCode: 0 Status: OK PackageFile: QuaternaryProd_1.41.0.tar.gz PackageFileSize: 10.75 MiB