Package: QuaternaryProd Version: 1.41.0 Command: rm -rf QuaternaryProd.buildbin-libdir && mkdir QuaternaryProd.buildbin-libdir && E:\biocbuild\bbs-3.21-bioc\R\bin\R.exe CMD INSTALL --build --library=QuaternaryProd.buildbin-libdir QuaternaryProd_1.41.0.tar.gz StartedAt: 2025-02-10 08:27:36 -0500 (Mon, 10 Feb 2025) EndedAt: 2025-02-10 08:28:53 -0500 (Mon, 10 Feb 2025) EllapsedTime: 77.7 seconds RetCode: 0 Status: OK PackageFile: QuaternaryProd_1.41.0.zip PackageFileSize: 11.16 MiB