Package: QuaternaryProd Version: 1.41.0 Command: chmod a+r QuaternaryProd -R && E:\biocbuild\bbs-3.21-bioc\R\bin\R.exe CMD build --keep-empty-dirs --no-resave-data QuaternaryProd StartedAt: 2025-02-09 20:57:34 -0500 (Sun, 09 Feb 2025) EndedAt: 2025-02-09 21:03:52 -0500 (Sun, 09 Feb 2025) EllapsedTime: 378.3 seconds RetCode: 0 Status: OK PackageFile: QuaternaryProd_1.41.0.tar.gz PackageFileSize: 10.75 MiB