Package: QuaternaryProd Version: 1.41.0 Command: E:\biocbuild\bbs-3.21-bioc\R\bin\R.exe CMD check --no-multiarch --install=check:QuaternaryProd.install-out.txt --library=E:\biocbuild\bbs-3.21-bioc\R\library --no-vignettes --timings QuaternaryProd_1.41.0.tar.gz StartedAt: 2025-02-10 04:25:11 -0500 (Mon, 10 Feb 2025) EndedAt: 2025-02-10 04:26:31 -0500 (Mon, 10 Feb 2025) EllapsedTime: 79.9 seconds RetCode: 0 Status: OK CheckDir: QuaternaryProd.Rcheck Warnings: 0