Package: R3CPET Version: 1.39.0 Maintainer: Mohamed Nadhir Djekidel MaintainerEmail: djek.nad at gmail.com git_url: https://git.bioconductor.org/packages/R3CPET git_branch: devel git_last_commit: adae88d git_last_commit_date: 2024-10-29 10:00:53 -0500 (Tue, 29 Oct 2024)