Package: R3CPET Version: 1.39.0 Command: /home/biocbuild/R/R/bin/R CMD build --keep-empty-dirs --no-resave-data R3CPET StartedAt: 2025-01-29 01:28:12 -0000 (Wed, 29 Jan 2025) EndedAt: 2025-01-29 01:30:34 -0000 (Wed, 29 Jan 2025) EllapsedTime: 142.1 seconds RetCode: 0 Status: OK PackageFile: R3CPET_1.39.0.tar.gz PackageFileSize: 5.065 MiB