Package: R3CPET Version: 1.39.0 Command: /home/biocbuild/R/R/bin/R CMD check --install=check:R3CPET.install-out.txt --library=/home/biocbuild/R/R/site-library --no-vignettes --timings R3CPET_1.39.0.tar.gz StartedAt: 2025-01-28 14:15:47 -0000 (Tue, 28 Jan 2025) EndedAt: 2025-01-28 14:23:14 -0000 (Tue, 28 Jan 2025) EllapsedTime: 447.7 seconds RetCode: 0 Status: WARNINGS CheckDir: R3CPET.Rcheck Warnings: 6