Package: R3CPET Version: 1.39.0 Command: E:\biocbuild\bbs-3.21-bioc\R\bin\R.exe CMD check --no-multiarch --install=check:R3CPET.install-out.txt --library=E:\biocbuild\bbs-3.21-bioc\R\library --no-vignettes --timings R3CPET_1.39.0.tar.gz StartedAt: 2025-02-13 04:35:24 -0500 (Thu, 13 Feb 2025) EndedAt: 2025-02-13 04:42:22 -0500 (Thu, 13 Feb 2025) EllapsedTime: 418.0 seconds RetCode: 0 Status: WARNINGS CheckDir: R3CPET.Rcheck Warnings: 2