Package: R4RNA Version: 1.35.0 Command: /home/biocbuild/R/R/bin/R CMD INSTALL R4RNA StartedAt: 2025-01-29 19:41:26 -0000 (Wed, 29 Jan 2025) EndedAt: 2025-01-29 19:41:40 -0000 (Wed, 29 Jan 2025) EllapsedTime: 14.0 seconds RetCode: 0 Status: OK