Package: R4RNA Version: 1.35.0 Command: /Library/Frameworks/R.framework/Resources/bin/R CMD build --keep-empty-dirs --no-resave-data R4RNA StartedAt: 2025-02-09 18:04:20 -0500 (Sun, 09 Feb 2025) EndedAt: 2025-02-09 18:04:44 -0500 (Sun, 09 Feb 2025) EllapsedTime: 24.0 seconds RetCode: 0 Status: OK PackageFile: R4RNA_1.35.0.tar.gz PackageFileSize: 903.4 KiB