Package: R4RNA Version: 1.35.0 Command: /home/biocbuild/bbs-3.21-bioc/R/bin/R CMD INSTALL R4RNA StartedAt: 2025-02-04 15:28:18 -0500 (Tue, 04 Feb 2025) EndedAt: 2025-02-04 15:28:29 -0500 (Tue, 04 Feb 2025) EllapsedTime: 10.9 seconds RetCode: 0 Status: OK