Package: R4RNA Version: 1.35.0 Command: rm -rf R4RNA.buildbin-libdir && mkdir R4RNA.buildbin-libdir && E:\biocbuild\bbs-3.21-bioc\R\bin\R.exe CMD INSTALL --build --library=R4RNA.buildbin-libdir R4RNA_1.35.0.tar.gz StartedAt: 2025-02-10 08:27:53 -0500 (Mon, 10 Feb 2025) EndedAt: 2025-02-10 08:28:18 -0500 (Mon, 10 Feb 2025) EllapsedTime: 25.1 seconds RetCode: 0 Status: OK PackageFile: R4RNA_1.35.0.zip PackageFileSize: 932 KiB