Package: R4RNA Version: 1.35.0 Command: chmod a+r R4RNA -R && E:\biocbuild\bbs-3.21-bioc\R\bin\R.exe CMD build --keep-empty-dirs --no-resave-data R4RNA StartedAt: 2025-02-04 21:01:18 -0500 (Tue, 04 Feb 2025) EndedAt: 2025-02-04 21:01:45 -0500 (Tue, 04 Feb 2025) EllapsedTime: 26.8 seconds RetCode: 0 Status: OK PackageFile: R4RNA_1.35.0.tar.gz PackageFileSize: 787.7 KiB