Package: R4RNA Version: 1.35.0 Command: E:\biocbuild\bbs-3.21-bioc\R\bin\R.exe CMD check --no-multiarch --install=check:R4RNA.install-out.txt --library=E:\biocbuild\bbs-3.21-bioc\R\library --no-vignettes --timings R4RNA_1.35.0.tar.gz StartedAt: 2025-02-10 04:27:13 -0500 (Mon, 10 Feb 2025) EndedAt: 2025-02-10 04:29:06 -0500 (Mon, 10 Feb 2025) EllapsedTime: 113.0 seconds RetCode: 0 Status: OK CheckDir: R4RNA.Rcheck Warnings: 0