Package: R4RNA Version: 1.35.0 Command: E:\biocbuild\bbs-3.21-bioc\R\bin\R.exe CMD INSTALL R4RNA StartedAt: 2025-02-09 15:49:27 -0500 (Sun, 09 Feb 2025) EndedAt: 2025-02-09 15:49:52 -0500 (Sun, 09 Feb 2025) EllapsedTime: 25.0 seconds RetCode: 0 Status: OK