Package: RBM Version: 1.39.0 Command: /Library/Frameworks/R.framework/Resources/bin/R CMD INSTALL RBM StartedAt: 2025-02-04 15:02:55 -0500 (Tue, 04 Feb 2025) EndedAt: 2025-02-04 15:02:56 -0500 (Tue, 04 Feb 2025) EllapsedTime: 1.1 seconds RetCode: 0 Status: OK