Package: RBM Version: 1.39.0 Command: rm -rf RBM.buildbin-libdir && mkdir RBM.buildbin-libdir && /Users/biocbuild/BBS/utils/build-universal.sh RBM_1.39.0.tar.gz /Library/Frameworks/R.framework/Resources/bin/R RBM.buildbin-libdir StartedAt: 2025-02-05 00:56:38 -0500 (Wed, 05 Feb 2025) EndedAt: 2025-02-05 00:56:45 -0500 (Wed, 05 Feb 2025) EllapsedTime: 7.0 seconds RetCode: 0 Status: OK PackageFile: RBM_1.39.0.tgz PackageFileSize: 394 KiB