Package: RBM Version: 1.39.0 Command: /Library/Frameworks/R.framework/Resources/bin/R CMD build --keep-empty-dirs --no-resave-data RBM StartedAt: 2025-02-04 17:58:17 -0500 (Tue, 04 Feb 2025) EndedAt: 2025-02-04 17:58:52 -0500 (Tue, 04 Feb 2025) EllapsedTime: 35.4 seconds RetCode: 0 Status: OK PackageFile: RBM_1.39.0.tar.gz PackageFileSize: 370.5 KiB