Package: RBM Version: 1.39.0 Command: /Library/Frameworks/R.framework/Resources/bin/R CMD check --install=check:RBM.install-out.txt --library=/Library/Frameworks/R.framework/Resources/library --no-vignettes --timings RBM_1.39.0.tar.gz StartedAt: 2025-02-04 22:41:28 -0500 (Tue, 04 Feb 2025) EndedAt: 2025-02-04 22:42:24 -0500 (Tue, 04 Feb 2025) EllapsedTime: 55.9 seconds RetCode: 0 Status: OK CheckDir: RBM.Rcheck Warnings: 0