Package: RBM Version: 1.39.0 Command: /home/biocbuild/bbs-3.21-bioc/R/bin/R CMD check --install=check:RBM.install-out.txt --library=/home/biocbuild/bbs-3.21-bioc/R/site-library --timings RBM_1.39.0.tar.gz StartedAt: 2025-02-05 01:50:47 -0500 (Wed, 05 Feb 2025) EndedAt: 2025-02-05 01:51:50 -0500 (Wed, 05 Feb 2025) EllapsedTime: 63.3 seconds RetCode: 0 Status: OK CheckDir: RBM.Rcheck Warnings: 0