Package: RBM Version: 1.39.0 Command: rm -rf RBM.buildbin-libdir && mkdir RBM.buildbin-libdir && E:\biocbuild\bbs-3.21-bioc\R\bin\R.exe CMD INSTALL --build --library=RBM.buildbin-libdir RBM_1.39.0.tar.gz StartedAt: 2025-02-05 08:40:39 -0500 (Wed, 05 Feb 2025) EndedAt: 2025-02-05 08:40:46 -0500 (Wed, 05 Feb 2025) EllapsedTime: 6.3 seconds RetCode: 0 Status: OK PackageFile: RBM_1.39.0.zip PackageFileSize: 274.4 KiB