Package: RBM Version: 1.39.0 Command: chmod a+r RBM -R && E:\biocbuild\bbs-3.21-bioc\R\bin\R.exe CMD build --keep-empty-dirs --no-resave-data RBM StartedAt: 2025-02-09 21:02:40 -0500 (Sun, 09 Feb 2025) EndedAt: 2025-02-09 21:03:18 -0500 (Sun, 09 Feb 2025) EllapsedTime: 37.7 seconds RetCode: 0 Status: OK PackageFile: RBM_1.39.0.tar.gz PackageFileSize: 248.9 KiB