Package: RBM Version: 1.39.0 Command: E:\biocbuild\bbs-3.21-bioc\R\bin\R.exe CMD check --no-multiarch --install=check:RBM.install-out.txt --library=E:\biocbuild\bbs-3.21-bioc\R\library --no-vignettes --timings RBM_1.39.0.tar.gz StartedAt: 2025-02-05 04:56:22 -0500 (Wed, 05 Feb 2025) EndedAt: 2025-02-05 04:57:21 -0500 (Wed, 05 Feb 2025) EllapsedTime: 59.6 seconds RetCode: 0 Status: OK CheckDir: RBM.Rcheck Warnings: 0