Package: RBioFormats Version: 1.7.0 Command: /Library/Frameworks/R.framework/Resources/bin/R CMD INSTALL RBioFormats StartedAt: 2025-02-12 15:24:38 -0500 (Wed, 12 Feb 2025) EndedAt: 2025-02-12 15:24:51 -0500 (Wed, 12 Feb 2025) EllapsedTime: 12.7 seconds RetCode: 0 Status: OK