Package: RBioFormats Version: 1.7.0 Command: /home/biocbuild/bbs-3.21-bioc/R/bin/R CMD INSTALL RBioFormats StartedAt: 2025-02-12 15:13:45 -0500 (Wed, 12 Feb 2025) EndedAt: 2025-02-12 15:13:54 -0500 (Wed, 12 Feb 2025) EllapsedTime: 8.9 seconds RetCode: 0 Status: OK