Package: RBioFormats Version: 1.7.0 Command: chmod a+r RBioFormats -R && E:\biocbuild\bbs-3.21-bioc\R\bin\R.exe CMD build --keep-empty-dirs --no-resave-data RBioFormats StartedAt: 2025-02-12 21:09:11 -0500 (Wed, 12 Feb 2025) EndedAt: 2025-02-12 21:09:42 -0500 (Wed, 12 Feb 2025) EllapsedTime: 30.6 seconds RetCode: 0 Status: OK PackageFile: RBioFormats_1.7.0.tar.gz PackageFileSize: 320.3 KiB