Package: RBioFormats Version: 1.7.0 Command: E:\biocbuild\bbs-3.21-bioc\R\bin\R.exe CMD check --no-multiarch --install=check:RBioFormats.install-out.txt --library=E:\biocbuild\bbs-3.21-bioc\R\library --no-vignettes --timings RBioFormats_1.7.0.tar.gz StartedAt: 2025-02-10 04:30:09 -0500 (Mon, 10 Feb 2025) EndedAt: 2025-02-10 04:31:50 -0500 (Mon, 10 Feb 2025) EllapsedTime: 101.1 seconds RetCode: 0 Status: OK CheckDir: RBioFormats.Rcheck Warnings: 0