Package: RBioFormats Version: 1.7.0 Command: E:\biocbuild\bbs-3.21-bioc\R\bin\R.exe CMD INSTALL RBioFormats StartedAt: 2025-02-12 15:36:43 -0500 (Wed, 12 Feb 2025) EndedAt: 2025-02-12 15:37:12 -0500 (Wed, 12 Feb 2025) EllapsedTime: 29.4 seconds RetCode: 0 Status: OK