Package: RBioinf Version: 1.67.0 Command: rm -rf RBioinf.buildbin-libdir && mkdir RBioinf.buildbin-libdir && /Users/biocbuild/BBS/utils/build-universal.sh RBioinf_1.67.0.tar.gz /Library/Frameworks/R.framework/Resources/bin/R RBioinf.buildbin-libdir StartedAt: 2025-02-09 22:26:37 -0500 (Sun, 09 Feb 2025) EndedAt: 2025-02-09 22:26:41 -0500 (Sun, 09 Feb 2025) EllapsedTime: 4.1 seconds RetCode: 0 Status: OK PackageFile: RBioinf_1.67.0.tgz PackageFileSize: 3.595 MiB