Package: RBioinf Version: 1.67.0 Command: /Library/Frameworks/R.framework/Resources/bin/R CMD build --keep-empty-dirs --no-resave-data RBioinf StartedAt: 2025-02-09 17:20:43 -0500 (Sun, 09 Feb 2025) EndedAt: 2025-02-09 17:20:50 -0500 (Sun, 09 Feb 2025) EllapsedTime: 7.1 seconds RetCode: 0 Status: OK PackageFile: RBioinf_1.67.0.tar.gz PackageFileSize: 3.544 MiB