Package: RBioinf Version: 1.67.0 Command: /home/biocbuild/R/R/bin/R CMD build --keep-empty-dirs --no-resave-data RBioinf StartedAt: 2025-01-29 01:31:10 -0000 (Wed, 29 Jan 2025) EndedAt: 2025-01-29 01:31:22 -0000 (Wed, 29 Jan 2025) EllapsedTime: 12.0 seconds RetCode: 0 Status: OK PackageFile: RBioinf_1.67.0.tar.gz PackageFileSize: 3.538 MiB