Package: RBioinf Version: 1.67.0 Command: rm -rf RBioinf.buildbin-libdir && mkdir RBioinf.buildbin-libdir && E:\biocbuild\bbs-3.21-bioc\R\bin\R.exe CMD INSTALL --build --library=RBioinf.buildbin-libdir RBioinf_1.67.0.tar.gz StartedAt: 2025-02-10 08:29:17 -0500 (Mon, 10 Feb 2025) EndedAt: 2025-02-10 08:29:35 -0500 (Mon, 10 Feb 2025) EllapsedTime: 18.2 seconds RetCode: 0 Status: OK PackageFile: RBioinf_1.67.0.zip PackageFileSize: 3.47 MiB