Package: RBioinf Version: 1.67.0 Command: chmod a+r RBioinf -R && E:\biocbuild\bbs-3.21-bioc\R\bin\R.exe CMD build --keep-empty-dirs --no-resave-data RBioinf StartedAt: 2025-02-12 21:09:21 -0500 (Wed, 12 Feb 2025) EndedAt: 2025-02-12 21:09:40 -0500 (Wed, 12 Feb 2025) EllapsedTime: 19.0 seconds RetCode: 0 Status: OK PackageFile: RBioinf_1.67.0.tar.gz PackageFileSize: 3.436 MiB