Package: RCASPAR Version: 1.53.0 Command: /home/biocbuild/R/R/bin/R CMD build --keep-empty-dirs --no-resave-data RCASPAR StartedAt: 2025-01-29 01:32:16 -0000 (Wed, 29 Jan 2025) EndedAt: 2025-01-29 01:32:23 -0000 (Wed, 29 Jan 2025) EllapsedTime: 7.0 seconds RetCode: 0 Status: OK PackageFile: RCASPAR_1.53.0.tar.gz PackageFileSize: 304.8 KiB