Package: RCASPAR Version: 1.53.0 Command: /home/biocbuild/R/R/bin/R CMD check --install=check:RCASPAR.install-out.txt --library=/home/biocbuild/R/R/site-library --no-vignettes --timings RCASPAR_1.53.0.tar.gz StartedAt: 2025-01-28 14:20:50 -0000 (Tue, 28 Jan 2025) EndedAt: 2025-01-28 14:21:10 -0000 (Tue, 28 Jan 2025) EllapsedTime: 20.1 seconds RetCode: 0 Status: OK CheckDir: RCASPAR.Rcheck Warnings: 0