Package: RCASPAR Version: 1.53.0 Command: rm -rf RCASPAR.buildbin-libdir && mkdir RCASPAR.buildbin-libdir && /Users/biocbuild/BBS/utils/build-universal.sh RCASPAR_1.53.0.tar.gz /Library/Frameworks/R.framework/Resources/bin/R RCASPAR.buildbin-libdir StartedAt: 2025-02-10 01:10:41 -0500 (Mon, 10 Feb 2025) EndedAt: 2025-02-10 01:10:48 -0500 (Mon, 10 Feb 2025) EllapsedTime: 6.9 seconds RetCode: 0 Status: OK PackageFile: RCASPAR_1.53.0.tgz PackageFileSize: 375.6 KiB