Package: RCASPAR Version: 1.53.0 Command: /Library/Frameworks/R.framework/Resources/bin/R CMD build --keep-empty-dirs --no-resave-data RCASPAR StartedAt: 2025-02-09 18:06:13 -0500 (Sun, 09 Feb 2025) EndedAt: 2025-02-09 18:06:23 -0500 (Sun, 09 Feb 2025) EllapsedTime: 10.3 seconds RetCode: 0 Status: OK PackageFile: RCASPAR_1.53.0.tar.gz PackageFileSize: 305.3 KiB