Package: RCASPAR Version: 1.53.0 Command: /Library/Frameworks/R.framework/Resources/bin/R CMD check --install=check:RCASPAR.install-out.txt --library=/Library/Frameworks/R.framework/Resources/library --no-vignettes --timings RCASPAR_1.53.0.tar.gz StartedAt: 2025-02-04 22:42:03 -0500 (Tue, 04 Feb 2025) EndedAt: 2025-02-04 22:42:36 -0500 (Tue, 04 Feb 2025) EllapsedTime: 33.1 seconds RetCode: 0 Status: OK CheckDir: RCASPAR.Rcheck Warnings: 0