Package: RCASPAR Version: 1.53.0 Command: /Library/Frameworks/R.framework/Resources/bin/R CMD INSTALL RCASPAR StartedAt: 2025-02-09 15:06:24 -0500 (Sun, 09 Feb 2025) EndedAt: 2025-02-09 15:06:50 -0500 (Sun, 09 Feb 2025) EllapsedTime: 25.9 seconds RetCode: 0 Status: OK