Package: RCASPAR Version: 1.53.0 Command: E:\biocbuild\bbs-3.21-bioc\R\bin\R.exe CMD check --no-multiarch --install=check:RCASPAR.install-out.txt --library=E:\biocbuild\bbs-3.21-bioc\R\library --no-vignettes --timings RCASPAR_1.53.0.tar.gz StartedAt: 2025-02-10 04:31:46 -0500 (Mon, 10 Feb 2025) EndedAt: 2025-02-10 04:32:22 -0500 (Mon, 10 Feb 2025) EllapsedTime: 36.1 seconds RetCode: 0 Status: OK CheckDir: RCASPAR.Rcheck Warnings: 0