Package: RCASPAR Version: 1.53.0 Command: E:\biocbuild\bbs-3.21-bioc\R\bin\R.exe CMD INSTALL RCASPAR StartedAt: 2025-02-04 15:21:34 -0500 (Tue, 04 Feb 2025) EndedAt: 2025-02-04 15:21:46 -0500 (Tue, 04 Feb 2025) EllapsedTime: 12.3 seconds RetCode: 0 Status: OK