Package: RCSL Version: 1.15.0 Command: /home/biocbuild/R/R/bin/R CMD build --keep-empty-dirs --no-resave-data RCSL StartedAt: 2025-01-29 01:33:26 -0000 (Wed, 29 Jan 2025) EndedAt: 2025-01-29 01:34:10 -0000 (Wed, 29 Jan 2025) EllapsedTime: 44.0 seconds RetCode: 0 Status: OK PackageFile: RCSL_1.15.0.tar.gz PackageFileSize: 1.871 MiB