Package: RCX Version: 1.11.0 Command: rm -rf RCX.buildbin-libdir && mkdir RCX.buildbin-libdir && /Users/biocbuild/BBS/utils/build-universal.sh RCX_1.11.0.tar.gz /Library/Frameworks/R.framework/Resources/bin/R RCX.buildbin-libdir StartedAt: 2025-02-09 22:26:51 -0500 (Sun, 09 Feb 2025) EndedAt: 2025-02-09 22:26:55 -0500 (Sun, 09 Feb 2025) EllapsedTime: 4.0 seconds RetCode: 0 Status: OK PackageFile: RCX_1.11.0.tgz PackageFileSize: 3.615 MiB