Package: RCX Version: 1.11.0 Command: /Library/Frameworks/R.framework/Resources/bin/R CMD INSTALL RCX StartedAt: 2025-02-12 15:03:19 -0500 (Wed, 12 Feb 2025) EndedAt: 2025-02-12 15:03:26 -0500 (Wed, 12 Feb 2025) EllapsedTime: 7.8 seconds RetCode: 0 Status: OK